BEGIN:VCALENDAR
VERSION:2.0
PRODID:-//ChamberMaster//Event Calendar 2.0//EN
METHOD:PUBLISH
X-PUBLISHED-TTL:P3D
REFRESH-INTERVAL:P3D
CALSCALE:GREGORIAN
BEGIN:VEVENT
DTSTART:20260519T223000Z
DTEND:20260520T000000Z
X-MICROSOFT-CDO-ALLDAYEVENT:FALSE
SUMMARY:Windfest Appreciation Mixer
DESCRIPTION:Windfest Appreciation Mixer: Celebrating 51 Years of Community Success\n\n\n\nAfter another incredible year\, it's time to come together and celebrate what makes Windfest so special - our people. the Portland Chamber of Commerce is proud to host the Windfest Appreciation Mixer\, an evening dedicated to recognizing the sponsors\, committee members\, and volunteers who made our 51st annual Windfest a success.\n\n\n\nWindfest continues to be a cornerstone event for our community\, bringing families\, businesses\, and visitors together for four days of unforgettable fun\, entertainment\, and connection. None of this would be possible without the generous support of our sponsors\, the dedication of our planning committee\, and the countless hours contributed by our volunteers.\n\n\n\nThis Appreciation Mixer is our way of saying thank you. It's a chance to reflect on the memories we created\, the milestones we reached\, and the impact we made together. From planning and logistics to on-the-ground support during the event\, every tole played a vital part in bringing Windfest to life.\n\n\n\nJoin us as we celebrate the success of our 51st Windfest\, reconnect with fellow contributors\, and look ahead to an even brighter future. Your commitment and passion are what keep this tradition thriving year after year.\n\n\n\nCome celebrate with Us!
X-ALT-DESC;FMTTYPE=text/html:<strong>Windfest Appreciation Mixer: Celebrating 51 Years of Community Success</strong><br />\n<br />\nAfter another incredible year\, it&#39\;s time to come together and celebrate what makes Windfest so special - our people. the Portland Chamber of Commerce is proud to host the Windfest Appreciation Mixer\, an evening dedicated to recognizing the sponsors\, committee members\, and volunteers who made our 51st annual Windfest a success.<br />\n<br />\nWindfest continues to be a cornerstone event for our community\, bringing families\, businesses\, and visitors together for four days of unforgettable fun\, entertainment\, and connection. None of this would be possible without the generous support of our sponsors\, the dedication of our planning committee\, and the countless hours contributed by our volunteers.<br />\n<br />\nThis Appreciation Mixer is our way of saying thank you. It&#39\;s a chance to reflect on the memories we created\, the milestones we reached\, and the impact we made together. From planning and logistics to on-the-ground support during the event\, every tole played a vital part in bringing Windfest to life.<br />\n<br />\nJoin us as we celebrate the success of our 51st Windfest\, reconnect with fellow contributors\, and look ahead to an even brighter future. Your commitment and passion are what keep this tradition thriving year after year.<br />\n<br />\nCome celebrate with Us!<br />\n&nbsp\;
LOCATION:Location to be announced
UID:e.1912.17313
SEQUENCE:3
DTSTAMP:20260421T182309Z
URL:https://business.portlandtx.org/events/details/windfest-appreciation-mixer-17313
END:VEVENT

END:VCALENDAR
