BEGIN:VCALENDAR
VERSION:2.0
PRODID:-//ChamberMaster//Event Calendar 2.0//EN
METHOD:PUBLISH
X-PUBLISHED-TTL:P3D
REFRESH-INTERVAL:P3D
CALSCALE:GREGORIAN
BEGIN:VEVENT
DTSTART:20260424T203000Z
DTEND:20260424T210000Z
X-MICROSOFT-CDO-ALLDAYEVENT:FALSE
SUMMARY:Ribbon Cutting\; Diving Moon Yoga & Pilates
DESCRIPTION:Come Welcome Our New Member Divine Moon Yoga & Pilates
X-ALT-DESC;FMTTYPE=text/html:Come Welcome Our New Member Divine Moon Yoga &amp\; Pilates
LOCATION:Divine Moon Pilates and Yoga 509 Houston St. Portland\, TX 78374
UID:e.1912.17311
SEQUENCE:3
DTSTAMP:20260420T190846Z
URL:https://business.portlandtx.org/events/details/ribbon-cutting-diving-moon-yoga-pilates-17311
END:VEVENT

END:VCALENDAR
