BEGIN:VCALENDAR
VERSION:2.0
PRODID:-//ChamberMaster//Event Calendar 2.0//EN
METHOD:PUBLISH
X-PUBLISHED-TTL:P3D
REFRESH-INTERVAL:P3D
CALSCALE:GREGORIAN
BEGIN:VEVENT
DTSTART:20260512T213000Z
DTEND:20260512T233000Z
X-MICROSOFT-CDO-ALLDAYEVENT:FALSE
SUMMARY:Coastal Bend Industry Committee Mixer
DESCRIPTION:Join us for the Industry Mixer! You're invited to the Coastal Bend Industry Committee Mixer sponsored by The Port of Corpus Christi. Enjoy food\, drinks\, & door prizes!
X-ALT-DESC;FMTTYPE=text/html:Join us for the Industry Mixer! You&#39\;re invited to the Coastal Bend Industry Committee Mixer sponsored by The Port of Corpus Christi. Enjoy food\, drinks\, &amp\; door prizes!
LOCATION:Boneshakers Restaurant & Billiards 1008 US Hwy 181 Portland\, TX 78374
UID:e.1912.17314
SEQUENCE:3
DTSTAMP:20260421T182307Z
URL:https://business.portlandtx.org/events/details/coastal-bend-industry-committee-mixer-17314
END:VEVENT

END:VCALENDAR
